BEGIN:VCALENDAR
VERSION:2.0
PRODID:spatie/icalendar-generator
DESCRIPTION:Events from Christ Community Church
X-WR-CALDESC:Events from Christ Community Church
REFRESH-INTERVAL;VALUE=DURATION:PT1440M
X-PUBLISHED-TTL:PT1440M
BEGIN:VTIMEZONE
TZID:Etc/GMT+7
BEGIN:STANDARD
DTSTART:20230917T190000Z
TZOFFSETFROM:-0700
TZOFFSETTO:-0700
END:STANDARD
END:VTIMEZONE
BEGIN:VTIMEZONE
TZID:UTC
BEGIN:STANDARD
DTSTART:20250725T105706Z
TZOFFSETFROM:+0000
TZOFFSETTO:+0000
END:STANDARD
END:VTIMEZONE
BEGIN:VEVENT
UID:246-7
DTSTAMP:20260421T105706Z
SUMMARY:Explore the Jesus Way
LOCATION:Christ Community Church 25230 TWP RD. 542  St Albert AB T8T 1L8
ORGANIZER;CN=Kimberly du Plessis:MAILTO:kfvanherk@gmail.com
DTSTART;TZID=Etc/GMT+7:20240613T190000
DTEND;TZID=Etc/GMT+7:20240613T210000
X-ALT-DESC;FMTTYPE=TEXT/HTML:Come explore what the Jesus way is all about.
   This is a casual night with a little bit of teaching and a little bit o
 f discussion\, and a whole lot of learning from one another.  As with all
  our Thursday night Community Nights\, all are welcome: any age\, any fait
 h\, any background or ability. Explore&amp;hellip\;
CATEGORIES:Community Nights
URL;VALUE=URI:https://christcommunitychurch.ca/mc-events/explore-the-jesus-
 way-2/
METHOD:PUBLISH
END:VEVENT
END:VCALENDAR